BEGIN:VCALENDAR
VERSION:2.0
PRODID:-//SAAO - ECPv5.2.0//NONSGML v1.0//EN
CALSCALE:GREGORIAN
METHOD:PUBLISH
X-WR-CALNAME:SAAO
X-ORIGINAL-URL:https://www.saao.ac.za
X-WR-CALDESC:Events for SAAO
BEGIN:VTIMEZONE
TZID:Africa/Johannesburg
BEGIN:STANDARD
TZOFFSETFROM:+0200
TZOFFSETTO:+0200
TZNAME:SAST
DTSTART:20260101T000000
END:STANDARD
END:VTIMEZONE
BEGIN:VEVENT
DTSTART;TZID=Africa/Johannesburg:20260509T200000
DTEND;TZID=Africa/Johannesburg:20260509T220000
DTSTAMP:20260424T154547
CREATED:20260422T111256Z
LAST-MODIFIED:20260422T111256Z
UID:25804-1778356800-1778364000@www.saao.ac.za
SUMMARY:NRF|SAAO Cape Town Open Night
DESCRIPTION:Join us for Open Nights at the South African Astronomical Observatory (NRF/SAAO) in Cape Town\, held on the second and fourth Saturday of every month. \nEach evening begins with an engaging presentation on astronomy or a related field of science\, followed by a guided tour of the Observatory’s rich history—including our library\, museum\, and the historic 120-year-old McClean Telescope. \nWeather permitting\, guests will have the opportunity to enjoy stargazing through the McClean and additional smaller telescopes. \n\n\n\nGates open at 7:30 PM.\nFree entry for children aged 6 and under.\n\n\n\nPlease email cptbookings@saao.ac.za or call +27 21 447 0025 if you have any queries regarding bookings. \n\n\n\n\nSpeaker: Koustav Konar \n \n  \nBio:  \nKoustav Konar is a PhD student at Stellenbosch University and the University of Groningen\, working in observational cosmology. He currently works with an enigmatic astrophysical transient called Fast Radio Bursts to test the standard model of cosmology using data from the upcoming SKA telescopes. \nAbstract: \nA Long-Expected Journey: Using Cosmic Beacons to find the Universe’s Missing Matter \nFor over a century\, we have meticulously mapped the Universe\, guided by human curiosity and generations of careful observations. The culmination of this centuries-old lore is the standard model of cosmology\, which has been remarkably successful at predicting everything from the birth of stars to the evolution of galaxies. Yet\, as our vision grows clearer\, subtle cracks have emerged from the shadows. \nOne such persistent puzzle is the Missing Baryon Problem\, where a vast portion of the matter predicted by our theories remains unseen. It is as if we have opened a new puzzle box\, only to find that half the contents are missing\, leaving the final picture incomplete. \nJoin us as we journey through the milestones and mysteries of our cosmic discoveries. We will explore why our current maps are failing us and how we use Fast Radio Bursts as cosmic beacons to hunt down these scattered fragments of our Universe. \n 
URL:https://www.saao.ac.za/event/nrfsaao-cape-town-open-night-32/
LOCATION:Cape Town\, Observatory Rd\, Observatory\, Cape Town\, 7925\, South Africa
CATEGORIES:Cape Town Tours
END:VEVENT
END:VCALENDAR